BEGIN:VCALENDAR
PRODID:-//github.com/rianjs/ical.net//NONSGML ical.net 4.0//EN
VERSION:2.0
BEGIN:VTIMEZONE
TZID:Eastern Standard Time
X-LIC-LOCATION:America/New_York
BEGIN:STANDARD
DTSTART:20241103T020000
RRULE:FREQ=YEARLY;BYDAY=1SU;BYMONTH=11
TZNAME:EST
TZOFFSETFROM:-0400
TZOFFSETTO:-0500
END:STANDARD
BEGIN:DAYLIGHT
DTSTART:20250309T020000
RRULE:FREQ=YEARLY;BYDAY=2SU;BYMONTH=3
TZNAME:EDT
TZOFFSETFROM:-0500
TZOFFSETTO:-0400
END:DAYLIGHT
END:VTIMEZONE
BEGIN:VEVENT
DTEND;TZID=Eastern Standard Time;VALUE=DATE:20290421
DTSTAMP:20260419T152307Z
DTSTART;TZID=Eastern Standard Time;VALUE=DATE:20290415
LOCATION:Gaylord National | National Harbor\, MD 201 Waterfront Street For
 est Heights\, MD 20745 United States
ORGANIZER;CN=;SENT-BY="mailto:":
SEQUENCE:0
SUMMARY:SMFM: 2029 Pregnancy Meeting
UID:d9cdb611-381d-4ef1-bacf-2f686fbbe603
END:VEVENT
END:VCALENDAR
